BEGIN:VCALENDAR
VERSION:2.0
PRODID:icalendar-ruby
CALSCALE:GREGORIAN
BEGIN:VEVENT
DTSTAMP:20260420T134011Z
UID:e5a7c0c5-a8c3-4ad8-a7f9-0f37813815e3
DTSTART;VALUE=DATE:20260507
DESCRIPTION:Property ID# 606393\, Locatoin: Grenadier House\, 98 Moorhouse 
 Avenue\, Christchurch\, Time: 11:00AM
SUMMARY:Auction for 19 Rosamund Place
END:VEVENT
END:VCALENDAR
