BEGIN:VCALENDAR
VERSION:2.0
PRODID:icalendar-ruby
CALSCALE:GREGORIAN
BEGIN:VEVENT
DTSTAMP:20260420T124304Z
UID:0e6e3da0-58ea-4ac6-bd49-36c4d66019ee
DTSTART;VALUE=DATE:20260416
DESCRIPTION:Property ID# 605795\, Locatoin: Harcourts Grenadier 98 Moorhous
 e Avenue\, Time: 11:00AM
SUMMARY:Auction for 5 Ashbrook Lane
END:VEVENT
END:VCALENDAR
