BEGIN:VCALENDAR
VERSION:2.0
PRODID:icalendar-ruby
CALSCALE:GREGORIAN
BEGIN:VEVENT
DTSTAMP:20260420T134731Z
UID:97c633c7-1610-4928-aa92-ae6bb11b53ef
DTSTART;VALUE=DATE:20260324
DESCRIPTION:Property ID# 604763\, Locatoin: Onsite (unless sold prior)\, Ti
 me: 4:00PM
SUMMARY:Auction for 1 Limbrick Crescent
END:VEVENT
END:VCALENDAR
