BEGIN:VCALENDAR
VERSION:2.0
PRODID:icalendar-ruby
CALSCALE:GREGORIAN
BEGIN:VEVENT
DTSTAMP:20260421T101510Z
UID:ad5f257f-eb1d-4693-a5a6-6102f652f04d
DTSTART;VALUE=DATE:20260326
DESCRIPTION:Property ID# 603936\, Locatoin: 471 Papanui Road\, Gold Auction
  Rooms (USP)\, Time: 10:00AM
SUMMARY:Auction for 
END:VEVENT
END:VCALENDAR
