BEGIN:VCALENDAR
VERSION:2.0
PRODID:icalendar-ruby
CALSCALE:GREGORIAN
BEGIN:VEVENT
DTSTAMP:20260422T095827Z
UID:0fe1230f-f542-4a2b-948d-c058069430b3
DTSTART;VALUE=DATE:20260319
DESCRIPTION:Property ID# 603849\, Locatoin: Harcourts Grenadier 98 Moorhous
 e Avenue\, Time: 11:00AM
SUMMARY:Auction for 
END:VEVENT
END:VCALENDAR
