BEGIN:VCALENDAR
VERSION:2.0
PRODID:icalendar-ruby
CALSCALE:GREGORIAN
BEGIN:VEVENT
DTSTAMP:20260420T104342Z
UID:c989c3fd-ad25-4dca-871f-2c10693dcc4b
DTSTART;VALUE=DATE:20260210
DESCRIPTION:Property ID# 602493\, Time: 2:00PM
SUMMARY:Auction for 
END:VEVENT
END:VCALENDAR
