BEGIN:VCALENDAR
VERSION:2.0
PRODID:icalendar-ruby
CALSCALE:GREGORIAN
BEGIN:VEVENT
DTSTAMP:20260424T084202Z
UID:23ab25e8-aabf-4e89-a912-f2bb182911be
DTSTART;VALUE=DATE:20251204
DESCRIPTION:Property ID# 600306\, Locatoin: 98 Moorhouse Avenue\, Time: 11:
 00AM
SUMMARY:Auction for 
END:VEVENT
END:VCALENDAR
