BEGIN:VCALENDAR
VERSION:2.0
PRODID:icalendar-ruby
CALSCALE:GREGORIAN
BEGIN:VEVENT
DTSTAMP:20260420T104806Z
UID:9feb69e6-c6a1-407d-85a0-6fcb8ae4fe8d
DTSTART;VALUE=DATE:20250925
DESCRIPTION:Property ID# 596941\, Locatoin: Harcourts Grenadier 98 Moorhous
 e Avenue\, Time: 11:00AM
SUMMARY:Auction for 
END:VEVENT
END:VCALENDAR
