BEGIN:VCALENDAR
VERSION:2.0
PRODID:icalendar-ruby
CALSCALE:GREGORIAN
BEGIN:VEVENT
DTSTAMP:20260422T103428Z
UID:b56a3f0a-228b-40c5-ba84-69139d396d26
DTSTART;VALUE=DATE:20240801
DESCRIPTION:Property ID# 578226\, Locatoin: 98 Moorhouse Avenue (unless sol
 d prior)\, Time: 11:00AM
SUMMARY:Auction for 
END:VEVENT
END:VCALENDAR
