BEGIN:VCALENDAR
VERSION:2.0
PRODID:icalendar-ruby
CALSCALE:GREGORIAN
BEGIN:VEVENT
DTSTAMP:20260420T104807Z
UID:b818fc03-d2fb-4799-abc0-3e7efd0965c4
DTSTART;VALUE=DATE:20220210
DESCRIPTION:Property ID# 526540\, Locatoin: Harcourts Grenadier 98 Moorhous
 e Avenue \, Time: 11:00AM
SUMMARY:Auction for 
END:VEVENT
END:VCALENDAR
