BEGIN:VCALENDAR
VERSION:2.0
PRODID:icalendar-ruby
CALSCALE:GREGORIAN
BEGIN:VEVENT
DTSTAMP:20210118T210934Z
UID:5b90bd8b-474f-4b99-9628-10524e90a92a
DTSTART;TZID=Pacific/Auckland:20210117T120000
DTEND;TZID=Pacific/Auckland:20210117T123000
DESCRIPTION:Property ID# 499213
SUMMARY:Openhome for 14 Lyttelton Street
END:VEVENT
END:VCALENDAR
