BEGIN:VCALENDAR
VERSION:2.0
PRODID:icalendar-ruby
CALSCALE:GREGORIAN
BEGIN:VEVENT
DTSTAMP:20210118T210938Z
UID:61f22639-4293-4e8a-80b9-77c546cd23af
DTSTART;VALUE=DATE:20210128
DESCRIPTION:Property ID# 499423\, Time: 12:00PM
SUMMARY:Auction for 9 Cricklewood Place
END:VEVENT
END:VCALENDAR
