BEGIN:VCALENDAR
VERSION:2.0
PRODID:icalendar-ruby
CALSCALE:GREGORIAN
BEGIN:VEVENT
DTSTAMP:20210118T210935Z
UID:2d43ddfc-eab4-4e92-b56d-77d69461d624
DTSTART;VALUE=DATE:20210128
DESCRIPTION:Property ID# 499213\, Time: 12:00PM
SUMMARY:Auction for 14 Lyttelton Street
END:VEVENT
END:VCALENDAR
