BEGIN:VCALENDAR
VERSION:2.0
PRODID:icalendar-ruby
CALSCALE:GREGORIAN
BEGIN:VEVENT
DTSTAMP:20210118T210917Z
UID:1f076d5a-5fbb-488e-9d6d-46d18b08f921
DTSTART;VALUE=DATE:20210203
DESCRIPTION:Property ID# 499077\, Locatoin: Holmwood Auction Rooms\, Ground
  Floor\, 397 - 399 Ilam Road\, Ilam (unless sold prior)\, Time: 10:00AM
SUMMARY:Auction for 47 Richards Avenue
END:VEVENT
END:VCALENDAR
