BEGIN:VCALENDAR
VERSION:2.0
PRODID:icalendar-ruby
CALSCALE:GREGORIAN
BEGIN:VEVENT
DTSTAMP:20210118T211226Z
UID:1651dcad-c76e-4375-9b73-b196da6922f0
DTSTART;VALUE=DATE:20201209
DESCRIPTION:Property ID# 495998\, Locatoin: Harcourts Holmwood\, 397 - 399 
 Ilam Road\, Ilam (unless sold prior)\, Time: 3:00PM
SUMMARY:Auction for 
END:VEVENT
END:VCALENDAR
