BEGIN:VCALENDAR
VERSION:2.0
PRODID:icalendar-ruby
CALSCALE:GREGORIAN
BEGIN:VEVENT
DTSTAMP:20210118T210929Z
UID:aa2945c3-c854-43b0-b07e-5e3c31aa07d4
DTSTART;VALUE=DATE:20200926
DESCRIPTION:Property ID# 488403\, Time: 11:00AM
SUMMARY:Auction for 
END:VEVENT
END:VCALENDAR
