BEGIN:VCALENDAR
VERSION:2.0
PRODID:icalendar-ruby
CALSCALE:GREGORIAN
BEGIN:VEVENT
DTSTAMP:20210118T210931Z
UID:9e9256ff-f8df-408d-8bdd-a5840fa5366f
DTSTART;VALUE=DATE:20200623
DESCRIPTION:Property ID# 481915\, Time: 12:00PM
SUMMARY:Auction for 
END:VEVENT
END:VCALENDAR
