BEGIN:VCALENDAR
VERSION:2.0
PRODID:icalendar-ruby
CALSCALE:GREGORIAN
BEGIN:VEVENT
DTSTAMP:20210118T210958Z
UID:03e5003f-1d6a-4cdd-9e4f-6460cc728c70
DTSTART;VALUE=DATE:20200303
DESCRIPTION:Property ID# 474621\, Locatoin: 1 WENTWORTH STREET\, ILAM (Firs
 t National Progressive offices)\, Time: 6:00PM
SUMMARY:Auction for 
END:VEVENT
END:VCALENDAR
