BEGIN:VCALENDAR
VERSION:2.0
PRODID:icalendar-ruby
CALSCALE:GREGORIAN
BEGIN:VEVENT
DTSTAMP:20210118T210932Z
UID:3059ce7c-b161-4a6b-a4e7-f9e0989ff38b
DTSTART;VALUE=DATE:20191112
DESCRIPTION:Property ID# 465264\, Time: 5:00PM
SUMMARY:Auction for 
END:VEVENT
END:VCALENDAR
